BEGIN:VCALENDAR
VERSION:2.0
METHOD:PUBLISH
PRODID:-//Event-List//NONSGML Event-List 5.4.1//DE
X-WR-TIMEZONE:Europe/Berlin
CALSCALE:GREGORIAN
BEGIN:VTIMEZONE
TZID:Europe/Berlin
BEGIN:DAYLIGHT
TZOFFSETFROM:+0100
TZOFFSETTO:+0200
DTSTART:19810329T020000
RRULE:FREQ=YEARLY;BYMONTH=3;BYDAY=-1SU
TZNAME:CEST
END:DAYLIGHT
BEGIN:STANDARD
TZOFFSETFROM:+0200
TZOFFSETTO:+0100
DTSTART:19961027T030000
RRULE:FREQ=YEARLY;BYMONTH=10;BYDAY=-1SU
TZNAME:CET
END:STANDARD
END:VTIMEZONE
BEGIN:VEVENT
DTSTAMP:20260425T131531
DTSTART:20230506T090000
DTEND:20230507T110000
UID:9@www.calendar.jansurlaub.de/
CLASS:PUBLIC
SUMMARY:DVV WT Tarp
DESCRIPTION:5, 10, 20km
CONTACT:Volkswandergruppe Tarp e.V.
LOCATION:Alexander Brehm Schule\, Klaus-Groth-Straße 29 \, 24963 Tarp
CATEGORIES:DVV/IVV
END:VEVENT
END:VCALENDAR