BEGIN:VCALENDAR
VERSION:2.0
METHOD:PUBLISH
PRODID:-//Event-List//NONSGML Event-List 5.4.1//DE
X-WR-TIMEZONE:Europe/Berlin
CALSCALE:GREGORIAN
BEGIN:VTIMEZONE
TZID:Europe/Berlin
BEGIN:DAYLIGHT
TZOFFSETFROM:+0100
TZOFFSETTO:+0200
DTSTART:19810329T020000
RRULE:FREQ=YEARLY;BYMONTH=3;BYDAY=-1SU
TZNAME:CEST
END:DAYLIGHT
BEGIN:STANDARD
TZOFFSETFROM:+0200
TZOFFSETTO:+0100
DTSTART:19961027T030000
RRULE:FREQ=YEARLY;BYMONTH=10;BYDAY=-1SU
TZNAME:CET
END:STANDARD
END:VTIMEZONE
BEGIN:VEVENT
DTSTAMP:20260425T131530
DTSTART:20230430T100000
DTEND:20230430T160000
UID:8@www.calendar.jansurlaub.de/
CLASS:PUBLIC
SUMMARY:DVV GTW Kiel-Altenholz 
DESCRIPTION:12km mit Walter Sell
CONTACT:Volkswandergruppe Kiel e.V.
LOCATION:Feuerwehr Altenholz-Knopp\, Knopper Dorfstr. 2\, 24161 Altenholz
CATEGORIES:DVV/IVV
END:VEVENT
END:VCALENDAR